BEGIN:VCALENDAR
PRODID:-//Microsoft Corporation//Outlook 11.0 MIMEDIR//EN
VERSION:2.0
METHOD:PUBLISH
BEGIN:VEVENT
DTSTART:20260424T120000
LOCATION:Ballyana Schachenstrasse 24, 5012 Schönenwerd
TRANSP:OPAQUE
RRULE:FREQ=DAILY;INTERVAL=1
UID:fa70c14f-7b14-498f-aef6-9c84916fb70e-0
DTSTAMP:20260424T120000
DESCRIPTION:Das Ballyana-Archiv bemüht sich um die Erhaltung des Erbes der Industriegeschichte der Region Schönenwerd, hauptsächlich der Bally Schuhfabriken. Die Dauerausstellung zeigt in authentischer Atmosphäre ein Stück Schweizer Industriegeschichte. Alte Textil- und Schuhproduktionsmaschinen versetzen die Besucherinnen und Besucher in die Gründerzeit zurück. Diverse Maschinen wie auch historische Schuhe, Bänder, Schachteln, Werbeprospekte und Dokumente beleuchten verschiedenste Aspekte dieses Industriezweiges und der Familie Bally. Neu zeigen wir in einer exklusiven Sonderschau die Entwicklung des Bally-Herrenschuhs von 1851 bis heute\n\nhttps://www.ballyana.ch\n\nKontakt\nBallyana\nSchachenstrasse 24\n5012 Schönenwerd\n062849109\n\nJeden 1. und 3. So im Monat 14-17 Führungen nach Vereinbarung jederzeit   \n\nPreis\nErwachsene: CHF 10.- Kinder: CHF 5.-\n\n\nDas Angebot im Detail: https://www.guidle.com/angebote/164532860/ballyana/schonenwerd\nQuelle: https://www.sogenda.ch
SUMMARY:Ballyana
PRIORITY:5
X-MICROSOFT-CDO-IMPORTANCE:1
CLASS:PUBLIC
BEGIN:VALARM
TRIGGER:-P1D
ACTION:DISPLAY
DESCRIPTION:Reminder
END:VALARM
END:VEVENT
END:VCALENDAR